Workbook

Sheet 回答用シート_事業者
A1: こども性暴力防止法の解説動画・資料 確認テスト
B2: ※本資料は、受講した研修について振り返り、知識が定着していることを確認するためのものです。
A3: こども性暴力防止法の概要 | C3: 回答欄 ※○×を選択
A4: Q1 | B4: こども性暴力防止法が対象とするこどもへの性暴力とは、不同意性交やわいせつな言動などであるが、盗撮は含まれない。
A5: Q2 | B5: 「不適切な行為」とは、行為そのものは性暴力には該当しなくとも、業務上必要な行為と言えず、その行為が継続・発展することにより性暴力につながる可能性のある行為をいい、すべての事業・業務において統一的な判断基準がある。
A6: Q3 | B6: 加害者側には、「少し触っただけで大したことではない」「こどもは嫌がっていなかった」という一方的な思い込みが見られることがある。これを「認知の偏り」と言う。
A7: Q4 | B7: 学校や認可保育所、認定こども園などを設置する事業者を「学校設置者等」といい、公立の事業者のみ法の対象となり、私立の事業者は対象外である。また、放課後児童クラブや学習塾など、義務対象以外でこどもに教育・保育などを提供する民間の事業者は、法の対象とはならない。
A8: Q5 | B8: 法の対象となった事業者には「安全確保措置」と「情報管理措置」に取り組むことが求められる。
A9: Q6 | B9: こどもの安全を守るために事業者が行う必要がある「安全確保措置」には、未然防止のためのルールの整備や従事者への研修の実施、早期発見のための相談窓口の設置や、性暴力が疑われる際の調査、被害にあったこどもの保護・支援などが含まれる。
A10: Q7 | B10: 不同意性交、不同意わいせつ、児童買春、児童ポルノ所持、盗撮といった特定性犯罪は、大人に対して行われた場合は、犯罪事実確認の対象にならない。
A11: 性暴力発生防止に関する基礎 | C11: 回答欄 ※○×を選択
A12: Q1 | B12: 被害者の側から見たこどもへの性暴力の特性として、「深刻さ」、「相談のしづらさ」、「発見のしづらさ」がある。
A13: Q2 | B13: こどもは、話しても大丈夫という安心感がないと、被害を打ち明けることができないことがある。そのため、被害を打ち明ける前に、保護者や友人、先生やコーチなどの身近な大人に対し、誰が批判をせずに受け止めてくれるかを、日常の会話の中で探ることがある。
A14: Q3 | B14: 性暴力の加害者には、「少し触っただけだ」、「実はこどもも喜んでいる」「これだけ頑張っているから見返りを求めてもよいはずだ」などのいわゆる「思考の誤り」「認知の偏り」と呼ばれる一方的な思い込みや、自己中心的な考えが見られる。
A15: Q4 | B15: 性暴力の加害者は、こどもを手なずけ、信頼関係を醸成し、こどもの心情や行動を操作して性暴力に及ぶことがある。これを「性的グルーミング」と呼ぶ。
A16: Q5 | B16: 環境面から見た性暴力の特性として、①指導などを通じて支配的・優越的立場に立つ「支配性」、②業務の中で繰り返しこどもと接する「継続性」、③保護者などの目が届かない「閉鎖性」がある。教育・保育などの場では、支配性、継続性、閉鎖性のある環境は成立しにくいが、「性暴力はどこでも起こり得るものだ」との意識を持って、未然防止や早期把握に努める必要がある。
A17: Q6 | B17: すべてのこどもは生まれながらに権利を持っている。こどもの権利条約では、①差別がないこと、②命を守られ成長できること、③こどもにとって最もよいこと、④意見を表明し参加できること、の４つを基本原則として定めている。
A18: Q7 | B18: こどもが望んだと主張して性暴力を正当化することは、こどもの意見を尊重することにも、こどもの権利を守ることにもならない。こどもには、性的行為に適切に同意する能力が十分に備わっているとは言えないことを理解する必要がある。
A19: Q8 | B19: こども性暴力防止法の対象となるこどもへの性暴力とは、不同意性交やわいせつな言動などを指すが、盗撮は含まれない。
A20: Q9 | B20: 「不適切な行為」とは、行為そのものは性暴力には該当しなくとも、業務上必要な行為と言えず、その行為が継続・発展することにより性暴力につながる可能性のある行為をいい、すべての事業・業務において統一的な判断基準がある。
A21: Q10 | B21: 不適切な行為は事業内容やこどもの特性などによって異なるため、どういった行為がそれぞれの事業に照らして不適切な行為に当たるのかについて、従事者とよくコミュニケーションをとりながら、過度な委縮につながらないようにルール設定をすることが重要である。また、事業者内で定めた不適切な行為について、従事者には周知する必要があるが、こどもや保護者に対しての周知は不要である。
A22: 安全確保措置 １．未然防止 | C22: 回答欄 ※○×を選択
A23: Q1 | B23: こども性暴力防止法における安全確保措置とは、性暴力を未然に防止し、性暴力が発生した場合は早期に発見するとともに、事実関係の調査を行い、被害にあったこどもの保護・支援や、更なる性暴力の防止につなげる取組を言う。
A24: Q2 | B24: 性暴力の未然防止の取り組みとして、「服務規律などの整備・周知」「施設・事業所環境の整備」「従事者に対する研修」「従事者やこども、保護者への教育・啓発」がある。
A25: Q3 | B25: 従事者によるこどもへの性暴力を、未然に防止するためには、事業者が、こどもへの性暴力の範囲や発生時の人事措置などを服務規律などに定め、内外に示すことが有効である。
A26: Q4 | B26: 性暴力の未然防止のための環境整備のうち、ハード面の取組としては、死角を把握した上で、密室状態を回避する設備（防犯カメラなど）の導入、性暴力抑止のための掲示をすることなどが考えられる。
A27: Q5 | B27: こども性暴力防止法では、対象となる従事者に、性暴力防止への関心を高めるとともに、そのために取り組むべきことに関する理解を深めるための研修を受講させることを、事業者に推奨しているが、事業者の義務とはされていない。
A28: Q6 | B28: こども家庭庁では、研修に活用できる「標準動画」や「要点動画」を提供している。このうち「要点動画」は、理解しておくことが最低限必要な内容を解説したもので、業務で多忙な従事者は誰でも「要点動画」を視聴すれば十分である。
A29: Q7 | B29: 研修は、1回限りとするのではなく、定期的な受講を促したり、日常的な取組の中に組み込んだりすることや、演習を通じて全ての従事者が研修内容を「自分ごと」として捉え、適切な行動を行うことができるようにすることが重要である。
A30: Q8 | B30: 「こどもの権利」は重要だが、性暴力の防止につながることは期待できない。
A31: Q9 | B31: 保護者に対して、こども性暴力防止法の仕組みや、法に基づく事業者の取組について周知するとともに、性暴力に関する正しい知識やこどもの権利、こどもから被害を打ち明けられた場合の適切な対応などについて、ともに学ぶ機会を持つことも有効である。
A32: Q10 | B32: 保護者に対し、従事者の性犯罪歴に関する情報や、性被害を受けたこどもの情報などについて、うわさを立てたり広めたりしないよう、丁寧に周知し、協力を呼び掛けることが重要である。
A33: 安全確保措置 ２．早期発見 | C33: 回答欄 ※○×を選択
A34: Q1 | B34: こども性暴力防止法では、早期発見のための取組として、「こどもに対する日常的な観察」、「面談又はアンケート」「報告・対応ルールの策定」「相談窓口の設置・周知」が事業者に義務付けられている。
A35: Q2 | B35: こどもに対する日常観察を行う際には、できるだけそのこどもをよく知る担当者1名で行うことが望ましい。
A36: Q3 | B36: こども性暴力防止法では、事業者に対して、性暴力の疑いなどが生じた場合の報告方法・報告先・報告内容といった「報告ルール」や、報告を受けた後の対応者、対応事項・対応手順などの「対応ルール」を定めること、それらを従事者に周知することが義務づけられているが、こども、保護者に周知することまでは必要ない。
A37: Q4 | B37: チームを編成する際には、重大事案にも対応できる一定の権限を有した役職者を「こどもの安全・保護に関する責任者」として定め、その下にメンバーを集めて、複数の者によるチームを編成する。組織内での報告ルートが設定されていれば、匿名通報窓口や外部通報窓口は必要ない。
A38: Q5 | B38: 被害を受けたこどもについて、うわさや誹謗中傷などが発生し、二次被害につながることは、絶対にあってはならず、情報の共有範囲は必要最低限とし、厳格に管理する。
A39: Q6 | B39: こども性暴力防止法では、事業者に対して、相談員の選任や相談窓口の設置を行い、それを周知することや、事業者外の相談窓口を周知することが義務付けられている。
A40: 安全確保措置 ３．疑いを把握した事業者の初期対応 | C40: 回答欄 ※○×を選択
A41: Q1 | B41: こどもから被害について打ち明けられたら、まずは安心できる場所を確保し、可能であれば録音の用意や筆記役の同席など記録を取る準備を行う。
A42: Q2 | B42: はじめに被害を打ち明けられた時の聴き取りでは、聴き取る内容は最小限にして、こどもが自発的に打ち明けた内容だけ聴き取り、それ以上はこちらから尋ねない。聞き取る内容は、「誰が」「何をした」だけでなく、「なぜ」「いつ」「何回」を聴き取る。
A43: Q3 | B43: 被害にあったこどもに、何度も話を聴いたり、誘導するような質問をしたりすると、質問に含まれる情報やあとから聞いた情報を、自分の考えや体験と思い込んでしまうことがある。このようにして本来の体験の記憶が変わってしまうことを「記憶の汚染」と言う。記憶の汚染は、記憶能力が発達段階にある幼少期などにおいて生じやすいとされているが、年齢が高くても、状況によっては記憶があいまいになり、記憶が変わってしまう場合もある。
A44: Q4 | B44: 被害について聴き取るときに、こどもが話していないのに「〇〇先生がやったの？」「〇〇を触られていない？」と尋ねたり、こどもが「触られた」と言っていないのに「どこを触られた」「いつ触られた」と尋ねたりする​など、誘導するような問いかけをすることが「記憶の汚染」につながる。そのため、こどもが自発的に話す内容以上を聴き取ろうとしてはいけない。また、こどもが使った言葉だけを使うようにし、「当たった」と言ったのを「触られたんだね」と言い換えたり、「それはいやだったね」「怖いことをされたんだね」と、こどもが使っていない言葉でコメントしたりしてはいけない。
A45: Q5 | B45: 性暴力を打ち明けられた際、基本的には、被害者には非がないと伝えることが大切だが、もし、こどもが自分を責めている様子が見られたときには、こどもにも反省すべき点があったか一緒に考える。また、聴き取りの最後には「話してくれてありがとう」と伝える。
A46: Q6 | B46: 正確に記録を残すために、性暴力被害が疑われる場合の聴き取りは録音に残すというルールをつくり、あらかじめ周知しておく必要がある。録音が難しい場合、可能であれば筆記役の同席を求め、こどもや聴き取りを行った人が何と言ったか、使った表現や言葉をそのまま記録に残す。
A47: Q7 | B47: こどもから打ち明けられた際、動揺したり、性暴力を防げなかったという責任を感じ、無意識に被害にあったこどもを傷つける言葉や質問が出てしまったりすることがあるため、十分に注意する。
A48: Q8 | B48: こどもから聴き取った内容について、組織内、家族や関係機関に情報共有することについて、こども本人に伝えるが、「誰にも言わないで」と言われたら、秘密は守ると約束する。
A49: Q9 | B49: 性暴力を認識した場合には、それが疑いの段階であっても重く受け止め、聴き取った事実関係を正確に記録に起こすが、管理者への報告を急ぐ必要はない。
A50: Q10 | B50: 性暴力の疑いが生じた場合、被害にあったこどもと、加害が疑われる従事者の接触回避は、事実の確認が取れた後に行えばよい。
A51: Q11 | B51: まだ加害の事実があると評価されたものではない段階では、あくまでも公正・中立な態度で対応を行う必要があることにも留意が必要である。
A52: Q12 | B52: 保護者以外から性暴力の疑いを把握した場合、保護者による性暴力の疑いがあるといった特段の事情がなければ、こどもに了解を取った上で、保護者に速やかに連絡することが望ましい。その際、こどもを責めないことや、こどもから話してこない限り、出来事に触れないようにすることなどの留意点を伝える。対応に当たっては、保護者の話を傾聴し、ショックや怒りを受け止め、誠実に対応する。
A53: 安全確保措置 ４．調査 | C53: 回答欄 ※○×を選択
A54: Q1 | B54: 事業者は、従事者によるこどもへの性暴力の疑いを認めるときは、その事実の有無や内容について調査を行うことが義務付けられている。
A55: Q2 | B55: 調査に当たっては、「こどもの人権や特性に配慮し、その名誉や尊厳を傷つけないよう、注意して行うこと」「まだ加害があったと評価されたわけではないため、加害が疑われる従事者の人権などにも配慮し、公正・中立に行うこと」「事案の内容やその他の事情に応じ、関係機関や専門家との適切な連携の下で行うこと」が義務付けられている。
A56: Q3 | B56: 性暴力の被害が疑われる場合は、まずは事業者内のみで事実確認を行い、その結果を踏まえて、警察への通報や相談を行う。
A57: Q4 | B57: 関係者から提供された情報に関する記録を、適切に保存することが重要である。客観的証拠として、防犯カメラ映像、SNSやメールのやり取り、手紙やメモ、第三者の証言などが想定され、証拠に接する方は可能な限り限定し、誰がいつ証拠の管理・閲覧などを行ったか、記録しておくなど、情報を適切に保全することが求められる。
A58: Q5 | B58: 所管行政庁と連携する場合は、早い段階から相談し、可能な限り一体的に対応するが、弁護士や心理職などの外部の専門家への相談は調査の後でよい。
A59: Q6 | B59: 聴き取りを通じて加害が疑われていることに気付づいた従事者が、こどもに対して証拠隠滅や報復を目的とした働きかけを行うことはあってはならず、従事者への聴き取りに先立ち、そのような働きかけを行った場合には、就業規則などに基づく処分の対象となることや、刑法上の証拠隠滅罪に該当する可能性があることを説明する。
A60: Q7 | B60: 事実の有無を判断するために十分な情報が集まった場合や、可能な限りの情報収集を終え、これ以上の収集は困難と判断される場合には、その時点で把握できている情報を基として、性暴力が行われたと合理的に認められるか否かの判断を行う。
A61: Q8 | B61: 以下に該当するような場合は、性暴力の事実があったと合理的に判断できると考えられる。１）加害者の説明と整合的な客観的証拠や第三者の証言があった場合、２）加害者の説明とこどもの相談・申出内容が整合的な場合、３）こどもや保護者の相談・申出内容と整合的な客観的証拠や第三者の証言があり、こどもや保護者の言い分に信用性が認められる場合、４）客観的な証拠や第三者の証言から、直接、事実と判断できる場合。
A62: Q9 | B62: 事実確認に当たり、本人が性暴力を行ったと認めていれば、性暴力の事実があったと判断して良い。
A63: 安全確保措置 ５．調査を踏まえた対応 | C63: 回答欄 ※○×を選択
A64: Q1 | B64: 調査による事実確認の結果を踏まえ、加害者への防止措置、こどもの保護・支援、関係者への対応・支援、再発防止策などの方針を決定する。その際、対応チームで協議し、性暴力は重大な人権侵害であるとの認識の下、方針を決定することが重要である
A65: Q2 | B65: こども性暴力防止法は、従事者による性暴力が行われたと認めるときは、そのこどもの保護・支援のための措置を行うことを事業者に義務付けている。被害にあったこどもと性暴力を行った従事者との接触の回避、事案の内容に応じた支援機関などの情報提供、被害にあったこどもやその保護者からの相談への真摯な対応を行う。
A66: Q3 | B66: 性暴力が行われたと合理的に判断できるときには、加害者をこどもと接する業務に就かせない。具体的には、就業規則に沿った懲戒処分や配置転換を行うことが考えられる。
A67: Q4 | B67: 「不適切な行為」が行われたと合理的に判断されたときには、初回かつ比較的軽微なものであっても、性暴力が行われた場合に準じ、就業規則に沿った懲戒処分や配置転換を行う。
A68: Q5 | B68: 被害にあったこどもの保護・支援を行う際には、被害にあったこどもの担当者を置き、こどもと定期的に会話する機会をつくるとともに、保護者から家での様子も聴き取って、こどもの状況を把握する。
A69: Q6 | B69: 被害者以外のこどもや、その保護者への支援を行う際には、被害にあったこどものプライバシーを保護するために、うわさの発生・拡散が起こらないよう、情報管理を行う。
A70: Q7 | B70: 対応チームのメンバーに、事案対応によるストレスから、不眠やイライラなどの身体の不調が生じる可能性があるが、事案対応を直接行うメンバー以外の従事者のメンタルヘルスを気にする必要はない。
A71: Q8 | B71: また、事実があると判断されなかった行為を理由として、懲罰的な対応を行うことはできないが、一方で、行為が行われなかったとも判断できない以上、性暴力や不適切な行為の疑いが生じたことは重く受け止め、こどもの心身の安全や安心感に十分配慮し、教育・保育などの場がそのこどもにとって安全・安心な居場所となるように事業運営を行う必要がある。
A72: Q9 | B72: 事業者が再発防止策を検討するに当たって、組織文化や体制の改善に関する検討は不要である。
A73: 犯罪事実確認 | C73: 回答欄 ※○×を選択
A74: Q1 | B74: 犯罪事実確認とは、事業者が対象となる従事者の性犯罪歴の有無について、こども家庭庁を通じて確認することをいう。こども家庭庁が交付する犯罪事実確認書の申請手続は、事業者において行うので、従事者がしなければならない手続は無い。
A75: Q2 | B75: 犯罪事実確認の手続は、原則として、新たにこども性暴力防止法の施行のために開発されるこまもろうシステム上で行う。また、犯罪事実確認書は、こまもろうシステムでの画面閲覧が原則とされている。
A76: Q3 | B76: 新規採用・異動により新たに対象業務に従事させる場合、従事を開始するまでに犯罪事実確認書を受領し、犯罪事実確認を終えておく必要がある。
A77: Q4 | B77: 義務対象事業者の場合は、こども性暴力防止法が施行された時点で、義務対象事業に従事・内定している従事者について、施行の日から5年以内に犯罪事実確認を終える必要がある。 認定事業者の場合は、認定を受けた時点で、認定対象事業に従事・内定している従事者について、認定の日から3年以内に犯罪事実確認を終える必要がある。
A78: Q5 | B78: 従事者が対象業務に継続して従事している場合、一度犯罪事実確認を行っていれば、従事期間にかかわらず再度確認をする必要はない。
A79: Q6 | B79: 犯罪事実確認書の交付申請を行ってから受領するまでに要する標準期間は、2週間から1か月（外国籍の対象従事者の場合は1か月から2か月）である。
A80: Q7 | B80: 「いとま特例」が適用され、犯罪事実確認前に従事させる場合は、性暴力の防止に関する研修や、その従事者とこどもを一対一にさせないこと、管理職による定期的な巡回等をすることが求められる。職務の性質や緊急時であることを理由に、やむを得ずどうしても一対一になってしまう状況が生じる場合は、原則として、事前に管理職に対し、時間、場所、対象となるこども、一対一になる必要性などを説明し了解を得るとともに、終了後に完了報告を行うことや、極力外部から視認性の高い場所やリモートでの実施について検討することが必要である。
A81: Q8 | B81: 事業者が自らの犯罪事実確認の実施状況を外部に情報開示する際には、性犯罪歴のある場合は、たとえ保護者からの問い合わせがあっても開示してはならないが、性犯罪歴がない場合は開示することができる。
A82: 防止措置 | C82: 回答欄 ※○×を選択
A83: Q1 | B83: 防止措置とは、事業者が、従事者によって性暴力が行われるおそれがあると認めるときに、その従事者をこどもと接する業務に就かせないなど、性暴力を防止するために講じなければならない措置をいう。
A84: Q2 | B84: 性暴力が行われるおそれがあると認めるケースは、「性犯罪歴があったとき」「性暴力の被害の申出があったとき」「調査などの結果、性暴力が行われたと合理的に判断できるとき」「調査などの結果、不適切な行為が行われたと合理的に判断できるとき」である。
A85: Q3 | B85: 犯罪事実確認の結果、性犯罪歴があったとき、調査の結果、性暴力や重大な不適切な行為が行われたと合理的に判断されたときは、その従事者をこどもと接する業務に就かせてはならない。
A86: Q4 | B86: こどもやその保護者から被害の申出があった場合も、まずは調査を行い、その後にこどもと加害が疑われる従事者の接触回避を行う。
A87: Q5 | B87: 労働者とのトラブルを防止するため、採用選考に当たって事業者はあらかじめ、「採用募集要項の採用条件に性犯罪歴がないことを明示する」「就業規則の懲戒事由や、内定通知書に記載する内定取消しの事由として「重要な経歴の詐称」を定める」「内定前の誓約書などで性犯罪歴の有無を明示的に確認する」ことなどが重要である。
A88: Q6 | B88: 従事者が派遣労働者や請負事業主のもとで働く労働者である場合は、派遣元や請負事業主が、犯罪事実確認や防止措置などの安全確保措置を行う義務を負う。
A89: 情報管理措置 | C89: 回答欄 ※○×を選択
A90: Q1 | B90: 従事者の性犯罪歴に関する情報が漏えいした場合、深刻な人権侵害につながる可能性があるため、情報管理は決して軽視してはならず、厳格に行うことが求められる。
A91: Q2 | B91: こども性暴力防止法において情報管理の対象となる「性犯罪歴の記録」とは、こども家庭庁から交付される犯罪事実確認書や、犯罪事実確認書に記載された情報を転記したものを指す。
A92: Q3 | B92: 性犯罪歴がない旨の情報は「性犯罪歴の記録」に該当せず、情報管理の対象とならない。
A93: Q4 | B93: 性犯罪歴のある従事者から人事面談などを通じて聴き取った性犯罪歴に関するより詳しい情報についても、厳格な取扱いが求められる。
A94: Q5 | B94: 情報管理規程には、基本方針に加えて、組織的情報管理措置・物理的情報管理措置・技術的情報管理措置、の3つの措置を定める必要がある。
A95: Q6 | B95: 組織内で性犯罪歴の記録を閲覧できる者は、各部署1人以上など、情報共有のため可能な限り多い方が望ましい。
A96: Q7 | B96: 性犯罪歴の記録の漏えいや第三者提供などが発生した場合には、被害の拡大防止に努めるとともに、その旨をこまもろうシステム上でこども家庭庁に報告しなければならない。
A97: Q8 | B97: 性犯罪歴の記録の漏えいやそのおそれを把握した際は、原則２週間以内にこども家庭庁に報告する。特に重大な事案では、原則１週間以内に対応する。
A98: Q9 | B98: 情報管理措置に関する規定に故意に違反した場合は、その法人および違反行為を行った従事者個人の両方に、拘禁刑・罰金といった罰則が科される。
A99: Q10 | B99: 従事者が離職した場合などに、その従事者の性犯罪歴の記録の廃棄・消去をしなかった場合には、50万円以下の罰金の対象となる。
A100: 認定 | C100: 回答欄 ※○×を選択
...

Sheet 解説シート_事業者
A1: こども性暴力防止法の解説動画・資料 確認テスト 解説
A3: こども性暴力防止法の概要 | C3: あなたの回答 | D3: 正解 | E3: 解説
A4: Q1 | B4: こども性暴力防止法が対象とするこどもへの性暴力とは、不同意性交やわいせつな言動などであるが、盗撮は含まれない。 | C4: =IF(回答用シート_事業者!C4<>"",回答用シート_事業者!C4,"") | D4: × | E4: こども性暴力防止法が対象とするこどもへの性暴力とは、不同意性交に加え、わいせつな言動、盗撮などを指す。
A5: Q2 | B5: 「不適切な行為」とは、行為そのものは性暴力には該当しなくとも、業務上必要な行為と言えず、その行為が継続・発展することにより性暴力につながる可能性のある行為をいい、すべての事業・業務において統一的な判断基準がある。 | C5: =IF(回答用シート_事業者!C5<>"",回答用シート_事業者!C5,"") | D5: × | E5: 「不適切な行為」とは、行為そのものは性暴力には該当しなくとも、業務上必要な行為と言えず、その行為が継続・発展することにより性暴力につながる可能性のある行為を言う。どのような行為が「不適切な行為」に該当するかは、事業内容やこどもの特性などによって異なる。
A6: Q3 | B6: 加害者側には、「少し触っただけで大したことではない」「こどもは嫌がっていなかった」という一方的な思い込みが見られることがある。これを「認知の偏り」と言う。 | C6: =IF(回答用シート_事業者!C6<>"",回答用シート_事業者!C6,"") | D6: 〇 | E6: -
A7: Q4 | B7: 学校や認可保育所、認定こども園などを設置する事業者を「学校設置者等」といい、公立の事業者のみ法の対象となり、私立の事業者は対象外である。また、放課後児童クラブや学習塾など、義務対象以外でこどもに教育・保育などを提供する民間の事業者は、法の対象とはならない。 | C7: =IF(回答用シート_事業者!C7<>"",回答用シート_事業者!C7,"") | D7: × | E7: 学校や認可保育所、認定こども園などを設置する事業者を「学校設置者等」といい、公立、私立を問わず全ての事業者が法の対象となる。また、放課後児童クラブや学習塾など、義務対象以外でこどもに教育・保育などを提供する事業者を「民間教育保育等事業者」といい、こども家庭庁に申請し認められた場合に法の対象となる。
A8: Q5 | B8: 法の対象となった事業者には「安全確保措置」と「情報管理措置」に取り組むことが求められる。 | C8: =IF(回答用シート_事業者!C8<>"",回答用シート_事業者!C8,"") | D8: 〇 | E8: -
A9: Q6 | B9: こどもの安全を守るために事業者が行う必要がある「安全確保措置」には、未然防止のためのルールの整備や従事者への研修の実施、早期発見のための相談窓口の設置や、性暴力が疑われる際の調査、被害にあったこどもの保護・支援などが含まれる。 | C9: =IF(回答用シート_事業者!C9<>"",回答用シート_事業者!C9,"") | D9: 〇 | E9: -
A10: Q7 | B10: 不同意性交、不同意わいせつ、児童買春、児童ポルノ所持、盗撮といった特定性犯罪は、大人に対して行われた場合は、犯罪事実確認の対象にならない。 | C10: =IF(回答用シート_事業者!C10<>"",回答用シート_事業者!C10,"") | D10: × | E10: 犯罪事実確認の対象となる「特定性犯罪」とは、不同意性交、不同意わいせつ、児童買春、児童ポルノ所持、盗撮などのこども性暴力防止法で定める一般的な性犯罪を指し、これらの犯罪が大人に対して行われた場合も、犯罪事実確認の対象になる。
A11: 性暴力発生防止に関する基礎 | C11: あなたの回答 | D11: 正解 | E11: 解説
A12: Q1 | B12: 被害者の側から見たこどもへの性暴力の特性として、「深刻さ」、「相談のしづらさ」、「発見のしづらさ」がある。 | C12: =IF(回答用シート_事業者!C12<>"",回答用シート_事業者!C12,"") | D12: 〇 | E12: -
A13: Q2 | B13: こどもは、話しても大丈夫という安心感がないと、被害を打ち明けることができないことがある。そのため、被害を打ち明ける前に、保護者や友人、先生やコーチなどの身近な大人に対し、誰が批判をせずに受け止めてくれるかを、日常の会話の中で探ることがある。 | C13: =IF(回答用シート_事業者!C13<>"",回答用シート_事業者!C13,"") | D13: 〇 | E13: -
A14: Q3 | B14: 性暴力の加害者には、「少し触っただけだ」、「実はこどもも喜んでいる」「これだけ頑張っているから見返りを求めてもよいはずだ」などのいわゆる「思考の誤り」「認知の偏り」と呼ばれる一方的な思い込みや、自己中心的な考えが見られる。 | C14: =IF(回答用シート_事業者!C14<>"",回答用シート_事業者!C14,"") | D14: 〇 | E14: -
A15: Q4 | B15: 性暴力の加害者は、こどもを手なずけ、信頼関係を醸成し、こどもの心情や行動を操作して性暴力に及ぶことがある。これを「性的グルーミング」と呼ぶ。 | C15: =IF(回答用シート_事業者!C15<>"",回答用シート_事業者!C15,"") | D15: 〇 | E15: -
A16: Q5 | B16: 環境面から見た性暴力の特性として、①指導などを通じて支配的・優越的立場に立つ「支配性」、②業務の中で繰り返しこどもと接する「継続性」、③保護者などの目が届かない「閉鎖性」がある。教育・保育などの場では、支配性、継続性、閉鎖性のある環境は成立しにくいが、「性暴力はどこでも起こり得るものだ」との意識を持って、未然防止や早期把握に努める必要がある。 | C16: =IF(回答用シート_事業者!C16<>"",回答用シート_事業者!C16,"") | D16: × | E16: 環境面から見た性暴力の特性として、①指導などを通じて強い立場に立つ「支配性」、②業務の中で繰り返しこどもと接する「継続性」、③保護者などの目が届かない「閉鎖性」がある。教育・保育などの場では、支配性、継続性、閉鎖性のある環境が成立しやすいため、「性暴力はどこでも起こり得るものだ」との意識を持って、未然防止や早期把握に努める必要がある。
A17: Q6 | B17: すべてのこどもは生まれながらに権利を持っている。こどもの権利条約では、①差別がないこと、②命を守られ成長できること、③こどもにとって最もよいこと、④意見を表明し参加できること、の４つを基本原則として定めている。 | C17: =IF(回答用シート_事業者!C17<>"",回答用シート_事業者!C17,"") | D17: 〇 | E17: -
A18: Q7 | B18: こどもが望んだと主張して性暴力を正当化することは、こどもの意見を尊重することにも、こどもの権利を守ることにもならない。こどもには、性的行為に適切に同意する能力が十分に備わっているとは言えないことを理解する必要がある。 | C18: =IF(回答用シート_事業者!C18<>"",回答用シート_事業者!C18,"") | D18: 〇 | E18: -
A19: Q8 | B19: こども性暴力防止法の対象となるこどもへの性暴力とは、不同意性交やわいせつな言動などを指すが、盗撮は含まれない。 | C19: =IF(回答用シート_事業者!C19<>"",回答用シート_事業者!C19,"") | D19: × | E19: こども性暴力防止法の対象となるこどもへの性暴力とは、不同意性交に加え、わいせつな言動、盗撮などを指す。
A20: Q9 | B20: 「不適切な行為」とは、行為そのものは性暴力には該当しなくとも、業務上必要な行為と言えず、その行為が継続・発展することにより性暴力につながる可能性のある行為をいい、すべての事業・業務において統一的な判断基準がある。 | C20: =IF(回答用シート_事業者!C20<>"",回答用シート_事業者!C20,"") | D20: × | E20: 「不適切な行為」とは、行為そのものは性暴力には該当しなくとも、業務上必要な行為と言えず、その行為が継続・発展することにより性暴力につながる可能性のある行為を言う。どのような行為が「不適切な行為」に該当するかは、事業内容やこどもの特性などによって異なる。
A21: Q10 | B21: 不適切な行為は事業内容やこどもの特性などによって異なるため、どういった行為がそれぞれの事業に照らして不適切な行為に当たるのかについて、従事者とよくコミュニケーションをとりながら、過度な委縮につながらないようにルール設定をすることが重要である。また、事業者内で定めた不適切な行為について、従事者には周知する必要があるが、こどもや保護者に対しての周知は不要である。 | C21: =IF(回答用シート_事業者!C21<>"",回答用シート_事業者!C21,"") | D21: × | E21: 不適切な行為は事業内容やこどもの特性などによって異なるため、どういった行為がそれぞれの事業に照らして不適切な行為に当たるのかについて、従事者とよくコミュニケーションをとりながら、過度な委縮につながらないようにルール設定をすることが重要である。また、事業者内で定めた不適切な行為について、従事者だけでなく、こどもや保護者に対しても周知を行う必要がある。
A22: 安全確保措置 １．未然防止 | C22: あなたの回答 | D22: 正解 | E22: 解説
A23: Q1 | B23: こども性暴力防止法における安全確保措置とは、性暴力を未然に防止し、性暴力が発生した場合は早期に発見するとともに、事実関係の調査を行い、被害にあったこどもの保護・支援や、更なる性暴力の防止につなげる取組を言う。 | C23: =IF(回答用シート_事業者!C23<>"",回答用シート_事業者!C23,"") | D23: 〇 | E23: -
A24: Q2 | B24: 性暴力の未然防止の取り組みとして、「服務規律などの整備・周知」「施設・事業所環境の整備」「従事者に対する研修」「従事者やこども、保護者への教育・啓発」がある。 | C24: =IF(回答用シート_事業者!C24<>"",回答用シート_事業者!C24,"") | D24: 〇 | E24: -
A25: Q3 | B25: 従事者によるこどもへの性暴力を、未然に防止するためには、事業者が、こどもへの性暴力の範囲や発生時の人事措置などを服務規律などに定め、内外に示すことが有効である。 | C25: =IF(回答用シート_事業者!C25<>"",回答用シート_事業者!C25,"") | D25: 〇 | E25: -
A26: Q4 | B26: 性暴力の未然防止のための環境整備のうち、ハード面の取組としては、死角を把握した上で、密室状態を回避する設備（防犯カメラなど）の導入、性暴力抑止のための掲示をすることなどが考えられる。 | C26: =IF(回答用シート_事業者!C26<>"",回答用シート_事業者!C26,"") | D26: 〇 | E26: -
A27: Q5 | B27: こども性暴力防止法では、対象となる従事者に、性暴力防止への関心を高めるとともに、そのために取り組むべきことに関する理解を深めるための研修を受講させることを、事業者に推奨しているが、事業者の義務とはされていない。 | C27: =IF(回答用シート_事業者!C27<>"",回答用シート_事業者!C27,"") | D27: × | E27: こども性暴力防止法では、対象となる全ての従事者に、性暴力防止への関心を高めるとともに、そのために取り組むべきことに関する理解を深めるための研修を受講させることを、事業者に対して義務付けている。
A28: Q6 | B28: こども家庭庁では、研修に活用できる「標準動画」や「要点動画」を提供している。このうち「要点動画」は、理解しておくことが最低限必要な内容を解説したもので、業務で多忙な従事者は誰でも「要点動画」を視聴すれば十分である。 | C28: =IF(回答用シート_事業者!C28<>"",回答用シート_事業者!C28,"") | D28: × | E28: こども家庭庁では、研修に活用できる「標準動画」や「要点動画」を提供している。従事者は、原則として、標準動画を活用した標準研修を受講する必要があるが、不定期・短期間の従事者など、標準研修の受講がすぐには難しい従事者については、理解しておくことが最低限必要な内容を解説した「要点動画」を使った研修を受講することも可能である。
A29: Q7 | B29: 研修は、1回限りとするのではなく、定期的な受講を促したり、日常的な取組の中に組み込んだりすることや、演習を通じて全ての従事者が研修内容を「自分ごと」として捉え、適切な行動を行うことができるようにすることが重要である。 | C29: =IF(回答用シート_事業者!C29<>"",回答用シート_事業者!C29,"") | D29: 〇 | E29: -
A30: Q8 | B30: 「こどもの権利」は重要だが、性暴力の防止につながることは期待できない。 | C30: =IF(回答用シート_事業者!C30<>"",回答用シート_事業者!C30,"") | D30: × | E30: こどもへの性暴力を防止するためには、加害を防止することが何よりも重要だが、こども自身が「こどもの権利」を知ることも重要である。自分のことは自分で決めていいこと、自分の意見を言っていいこと、自分が嫌な時は嫌だと言っていいことを伝えることで、危険な状況になったときに「嫌」という感覚を持つことや、それを表明することができるようになる。
A31: Q9 | B31: 保護者に対して、こども性暴力防止法の仕組みや、法に基づく事業者の取組について周知するとともに、性暴力に関する正しい知識やこどもの権利、こどもから被害を打ち明けられた場合の適切な対応などについて、ともに学ぶ機会を持つことも有効である。 | C31: =IF(回答用シート_事業者!C31<>"",回答用シート_事業者!C31,"") | D31: 〇 | E31: -
A32: Q10 | B32: 保護者に対し、従事者の性犯罪歴に関する情報や、性被害を受けたこどもの情報などについて、うわさを立てたり広めたりしないよう、丁寧に周知し、協力を呼び掛けることが重要である。 | C32: =IF(回答用シート_事業者!C32<>"",回答用シート_事業者!C32,"") | D32: 〇 | E32: -
A33: 安全確保措置 ２．早期発見 | C33: あなたの回答 | D33: 正解 | E33: 解説
A34: Q1 | B34: こども性暴力防止法では、早期発見のための取組として、「こどもに対する日常的な観察」、「面談又はアンケート」「報告・対応ルールの策定」「相談窓口の設置・周知」が事業者に義務付けられている。 | C34: =IF(回答用シート_事業者!C34<>"",回答用シート_事業者!C34,"") | D34: 〇 | E34: -
A35: Q2 | B35: こどもに対する日常観察を行う際には、できるだけそのこどもをよく知る担当者1名で行うことが望ましい。 | C35: =IF(回答用シート_事業者!C35<>"",回答用シート_事業者!C35,"") | D35: × | E35: こどもに対する日常観察を行う際には、可能な限り複数名で観察することや、情報共有や改善につなげやすい環境・雰囲気づくりが重要である。
A36: Q3 | B36: こども性暴力防止法では、事業者に対して、性暴力の疑いなどが生じた場合の報告方法・報告先・報告内容といった「報告ルール」や、報告を受けた後の対応者、対応事項・対応手順などの「対応ルール」を定めること、それらを従事者に周知することが義務づけられているが、こども、保護者に周知することまでは必要ない。 | C36: =IF(回答用シート_事業者!C36<>"",回答用シート_事業者!C36,"") | D36: × | E36: こども性暴力防止法では、事業者に対して、性暴力の疑いなどが生じた場合の報告方法・報告先・報告内容といった「報告ルール」や、報告を受けた後の対応者、対応事項・対応手順などの「対応ルール」を定めること、それらを従事者やこども、保護者に周知することが義務付けられている。
A37: Q4 | B37: チームを編成する際には、重大事案にも対応できる一定の権限を有した役職者を「こどもの安全・保護に関する責任者」として定め、その下にメンバーを集めて、複数の者によるチームを編成する。組織内での報告ルートが設定されていれば、匿名通報窓口や外部通報窓口は必要ない。 | C37: =IF(回答用シート_事業者!C37<>"",回答用シート_事業者!C37,"") | D37: × | E37: 事案に対応するためのチームを編成する際には、重大事案にも対応できる一定の権限を有した役職者を「こどもの安全・保護に関する責任者」として定め、その下にメンバーを集めて、複数の者によるチームを編成する。また、責任者やメンバーが加害者であることが疑われる場合も想定し、組織内での報告ルートに加えて、匿名通報窓口や外部通報窓口がある場合には、これらも周知する。
A38: Q5 | B38: 被害を受けたこどもについて、うわさや誹謗中傷などが発生し、二次被害につながることは、絶対にあってはならず、情報の共有範囲は必要最低限とし、厳格に管理する。 | C38: =IF(回答用シート_事業者!C38<>"",回答用シート_事業者!C38,"") | D38: 〇 | E38: -
A39: Q6 | B39: こども性暴力防止法では、事業者に対して、相談員の選任や相談窓口の設置を行い、それを周知することや、事業者外の相談窓口を周知することが義務付けられている。 | C39: =IF(回答用シート_事業者!C39<>"",回答用シート_事業者!C39,"") | D39: 〇 | E39: -
A40: 安全確保措置 ３．疑いを把握した事業者の初期対応 | C40: あなたの回答 | D40: 正解 | E40: 解説
A41: Q1 | B41: こどもから被害について打ち明けられたら、まずは安心できる場所を確保し、可能であれば録音の用意や筆記役の同席など記録を取る準備を行う。 | C41: =IF(回答用シート_事業者!C41<>"",回答用シート_事業者!C41,"") | D41: 〇 | E41: -
A42: Q2 | B42: はじめに被害を打ち明けられた時の聴き取りでは、聴き取る内容は最小限にして、こどもが自発的に打ち明けた内容だけ聴き取り、それ以上はこちらから尋ねない。聞き取る内容は、「誰が」「何をした」だけでなく、「なぜ」「いつ」「何回」を聴き取る。 | C42: =IF(回答用シート_事業者!C42<>"",回答用シート_事業者!C42,"") | D42: × | E42: はじめに被害を打ち明けられた時の聴き取りでは、聴き取る内容は最小限にして、こどもが自発的に打ち明けた内容だけ聴き取り、それ以上はこちらから尋ねない。「誰が」「何をした」かが分かれば十分であり、「なぜ」「いつ」「何回」はこどもにとって答えるのが難しいためこちらから尋ねることは避ける。
A43: Q3 | B43: 被害にあったこどもに、何度も話を聴いたり、誘導するような質問をしたりすると、質問に含まれる情報やあとから聞いた情報を、自分の考えや体験と思い込んでしまうことがある。このようにして本来の体験の記憶が変わってしまうことを「記憶の汚染」と言う。記憶の汚染は、記憶能力が発達段階にある幼少期などにおいて生じやすいとされているが、年齢が高くても、状況によっては記憶があいまいになり、記憶が変わってしまう場合もある。 | C43: =IF(回答用シート_事業者!C43<>"",回答用シート_事業者!C43,"") | D43: 〇 | E43: -
A44: Q4 | B44: 被害について聴き取るときに、こどもが話していないのに「〇〇先生がやったの？」「〇〇を触られていない？」と尋ねたり、こどもが「触られた」と言っていないのに「どこを触られた」「いつ触られた」と尋ねたりする​など、誘導するような問いかけをすることが「記憶の汚染」につながる。そのため、こどもが自発的に話す内容以上を聴き取ろうとしてはいけない。また、こどもが使った言葉だけを使うようにし、「当たった」と言ったのを「触られたんだね」と言い換えたり、「それはいやだったね」「怖いことをされたんだね」と、こどもが使っていない言葉でコメントしたりしてはいけない。 | C44: =IF(回答用シート_事業者!C44<>"",回答用シート_事業者!C44,"") | D44: 〇 | E44: -
A45: Q5 | B45: 性暴力を打ち明けられた際、基本的には、被害者には非がないと伝えることが大切だが、もし、こどもが自分を責めている様子が見られたときには、こどもにも反省すべき点があったか一緒に考える。また、聴き取りの最後には「話してくれてありがとう」と伝える。 | C45: =IF(回答用シート_事業者!C45<>"",回答用シート_事業者!C45,"") | D45: × | E45: 性暴力を打ち明けられた際、どのような場合であっても、被害者には非がないと伝えることが大切であり、もし、こどもが自分を責めている様子が見られたときには、「あなたは悪くない」「あなたに落ち度も責任もない」と伝える。また、聴き取りの最後には「話してくれてありがとう」と伝える。
A46: Q6 | B46: 正確に記録を残すために、性暴力被害が疑われる場合の聴き取りは録音に残すというルールをつくり、あらかじめ周知しておく必要がある。録音が難しい場合、可能であれば筆記役の同席を求め、こどもや聴き取りを行った人が何と言ったか、使った表現や言葉をそのまま記録に残す。 | C46: =IF(回答用シート_事業者!C46<>"",回答用シート_事業者!C46,"") | D46: 〇 | E46: -
A47: Q7 | B47: こどもから打ち明けられた際、動揺したり、性暴力を防げなかったという責任を感じ、無意識に被害にあったこどもを傷つける言葉や質問が出てしまったりすることがあるため、十分に注意する。 | C47: =IF(回答用シート_事業者!C47<>"",回答用シート_事業者!C47,"") | D47: 〇 | E47: -
A48: Q8 | B48: こどもから聴き取った内容について、組織内、家族や関係機関に情報共有することについて、こども本人に伝えるが、「誰にも言わないで」と言われたら、秘密は守ると約束する。 | C48: =IF(回答用シート_事業者!C48<>"",回答用シート_事業者!C48,"") | D48: × | E48: こどもから聴き取った内容について組織内、家族や関係機関に情報共有することについて、こども本人に伝える。「誰にも言わないで」と言われたら、あなたを守るために、チームで対応する必要があり、秘密にはしておけないことを丁寧に説明し、何が不安なのかについて聴き取って、不安を解消できる方法を一緒に考える。
A49: Q9 | B49: 性暴力を認識した場合には、それが疑いの段階であっても重く受け止め、聴き取った事実関係を正確に記録に起こすが、管理者への報告を急ぐ必要はない。 | C49: =IF(回答用シート_事業者!C49<>"",回答用シート_事業者!C49,"") | D49: × | E49: 性暴力を認識した際には、それが疑いの段階であっても重く受け止め、速やかに、遅くともその日のうちに組織内で共有する。また、被害にあったこどもを守るためには、発覚直後から外部機関・専門家と連携することも重要である。
A50: Q10 | B50: 性暴力の疑いが生じた場合、被害にあったこどもと、加害が疑われる従事者の接触回避は、事実の確認が取れた後に行えばよい。 | C50: =IF(回答用シート_事業者!C50<>"",回答用シート_事業者!C50,"") | D50: × | E50: 性暴力の申し出があった場合、その時点で、こども性暴力防止法に基づく防止措置として、一時的な接触回避が可能である。その際、こども側を環境から遠ざけるのではなく、加害者側を分離することが望ましい対応である。
A51: Q11 | B51: まだ加害の事実があると評価されたものではない段階では、あくまでも公正・中立な態度で対応を行う必要があることにも留意が必要である。 | C51: =IF(回答用シート_事業者!C51<>"",回答用シート_事業者!C51,"") | D51: 〇 | E51: -
A52: Q12 | B52: 保護者以外から性暴力の疑いを把握した場合、保護者による性暴力の疑いがあるといった特段の事情がなければ、こどもに了解を取った上で、保護者に速やかに連絡することが望ましい。その際、こどもを責めないことや、こどもから話してこない限り、出来事に触れないようにすることなどの留意点を伝える。対応に当たっては、保護者の話を傾聴し、ショックや怒りを受け止め、誠実に対応する。 | C52: =IF(回答用シート_事業者!C52<>"",回答用シート_事業者!C52,"") | D52: 〇 | E52: -
A53: 安全確保措置 ４．調査 | C53: あなたの回答 | D53: 正解 | E53: 解説
A54: Q1 | B54: 事業者は、従事者によるこどもへの性暴力の疑いを認めるときは、その事実の有無や内容について調査を行うことが義務付けられている。 | C54: =IF(回答用シート_事業者!C54<>"",回答用シート_事業者!C54,"") | D54: 〇 | E54: -
A55: Q2 | B55: 調査に当たっては、「こどもの人権や特性に配慮し、その名誉や尊厳を傷つけないよう、注意して行うこと」「まだ加害があったと評価されたわけではないため、加害が疑われる従事者の人権などにも配慮し、公正・中立に行うこと」「事案の内容やその他の事情に応じ、関係機関や専門家との適切な連携の下で行うこと」が義務付けられている。 | C55: =IF(回答用シート_事業者!C55<>"",回答用シート_事業者!C55,"") | D55: 〇 | E55: -
A56: Q3 | B56: 性暴力の被害が疑われる場合は、まずは事業者内のみで事実確認を行い、その結果を踏まえて、警察への通報や相談を行う。 | C56: =IF(回答用シート_事業者!C56<>"",回答用シート_事業者!C56,"") | D56: × | E56: 事業者は、性暴力への対応に不慣れなことが多い一方、事実の確認には、高い専門性が求められるため、犯罪が疑われる場合は、こどもへの聴き取りは必要最低限にとどめ、警察へ通報や相談を行うことを徹底する。警察に通報するか判断に迷う場合にも、そうした状況にあることを含めて、警察に相談することを、第一に検討する。
A57: Q4 | B57: 関係者から提供された情報に関する記録を、適切に保存することが重要である。客観的証拠として、防犯カメラ映像、SNSやメールのやり取り、手紙やメモ、第三者の証言などが想定され、証拠に接する方は可能な限り限定し、誰がいつ証拠の管理・閲覧などを行ったか、記録しておくなど、情報を適切に保全することが求められる。 | C57: =IF(回答用シート_事業者!C57<>"",回答用シート_事業者!C57,"") | D57: 〇 | E57: -
A58: Q5 | B58: 所管行政庁と連携する場合は、早い段階から相談し、可能な限り一体的に対応するが、弁護士や心理職などの外部の専門家への相談は調査の後でよい。 | C58: =IF(回答用シート_事業者!C58<>"",回答用シート_事業者!C58,"") | D58: × | E58: 所管行政庁と連携する場合は、早い段階から相談し、可能な限り一体的に対応する。また、適切な聴き取り、トラブル防止、証拠の保全などの観点から弁護士などの専門家に相談することや、こどもの心を守りながら調査を行う観点から心理職などの専門家に相談することも検討する。
A59: Q6 | B59: 聴き取りを通じて加害が疑われていることに気付づいた従事者が、こどもに対して証拠隠滅や報復を目的とした働きかけを行うことはあってはならず、従事者への聴き取りに先立ち、そのような働きかけを行った場合には、就業規則などに基づく処分の対象となることや、刑法上の証拠隠滅罪に該当する可能性があることを説明する。 | C59: =IF(回答用シート_事業者!C59<>"",回答用シート_事業者!C59,"") | D59: 〇 | E59: -
A60: Q7 | B60: 事実の有無を判断するために十分な情報が集まった場合や、可能な限りの情報収集を終え、これ以上の収集は困難と判断される場合には、その時点で把握できている情報を基として、性暴力が行われたと合理的に認められるか否かの判断を行う。 | C60: =IF(回答用シート_事業者!C60<>"",回答用シート_事業者!C60,"") | D60: 〇 | E60: -
A61: Q8 | B61: 以下に該当するような場合は、性暴力の事実があったと合理的に判断できると考えられる。１）加害者の説明と整合的な客観的証拠や第三者の証言があった場合、２）加害者の説明とこどもの相談・申出内容が整合的な場合、３）こどもや保護者の相談・申出内容と整合的な客観的証拠や第三者の証言があり、こどもや保護者の言い分に信用性が認められる場合、４）客観的な証拠や第三者の証言から、直接、事実と判断できる場合。 | C61: =IF(回答用シート_事業者!C61<>"",回答用シート_事業者!C61,"") | D61: 〇 | E61: -
A62: Q9 | B62: 事実確認に当たり、本人が性暴力を行ったと認めていれば、性暴力の事実があったと判断して良い。 | C62: =IF(回答用シート_事業者!C62<>"",回答用シート_事業者!C62,"") | D62: × | E62: 事実確認に当たり、加害が疑われている従事者本人が、性暴力を行ったと認めている場合であっても、周囲からの圧力などにより、事実がないにもかかわらず認めてしまった可能性はないか、気をつける必要がある。
A63: 安全確保措置 ５．調査を踏まえた対応 | C63: あなたの回答 | D63: 正解 | E63: 解説
A64: Q1 | B64: 調査による事実確認の結果を踏まえ、加害者への防止措置、こどもの保護・支援、関係者への対応・支援、再発防止策などの方針を決定する。その際、対応チームで協議し、性暴力は重大な人権侵害であるとの認識の下、方針を決定することが重要である | C64: =IF(回答用シート_事業者!C64<>"",回答用シート_事業者!C64,"") | D64: 〇 | E64: -
A65: Q2 | B65: こども性暴力防止法は、従事者による性暴力が行われたと認めるときは、そのこどもの保護・支援のための措置を行うことを事業者に義務付けている。被害にあったこどもと性暴力を行った従事者との接触の回避、事案の内容に応じた支援機関などの情報提供、被害にあったこどもやその保護者からの相談への真摯な対応を行う。 | C65: =IF(回答用シート_事業者!C65<>"",回答用シート_事業者!C65,"") | D65: 〇 | E65: -
A66: Q3 | B66: 性暴力が行われたと合理的に判断できるときには、加害者をこどもと接する業務に就かせない。具体的には、就業規則に沿った懲戒処分や配置転換を行うことが考えられる。 | C66: =IF(回答用シート_事業者!C66<>"",回答用シート_事業者!C66,"") | D66: 〇 | E66: -
A67: Q4 | B67: 「不適切な行為」が行われたと合理的に判断されたときには、初回かつ比較的軽微なものであっても、性暴力が行われた場合に準じ、就業規則に沿った懲戒処分や配置転換を行う。 | C67: =IF(回答用シート_事業者!C67<>"",回答用シート_事業者!C67,"") | D67: × | E67: 「不適切な行為」が行われたと合理的に判断されたときは、初回かつ比較的軽微なものであるような場合は、まずは繰り返さないように指導を行い、研修を改めて受講させ、注意深くその後の経過観察を行うなど、段階的な対応を行う。一方、指導したにも関わらず、同様の行為を繰り返した場合には、性暴力が行われた場合に準じ、より厳格な対応を行う。こどもに対する性暴力や不適切な行為を、就業規則の懲戒事由として定めておくことで、このような対応を円滑に行うことが可能となる。
A68: Q5 | B68: 被害にあったこどもの保護・支援を行う際には、被害にあったこどもの担当者を置き、こどもと定期的に会話する機会をつくるとともに、保護者から家での様子も聴き取って、こどもの状況を把握する。 | C68: =IF(回答用シート_事業者!C68<>"",回答用シート_事業者!C68,"") | D68: 〇 | E68: -
A69: Q6 | B69: 被害者以外のこどもや、その保護者への支援を行う際には、被害にあったこどものプライバシーを保護するために、うわさの発生・拡散が起こらないよう、情報管理を行う。 | C69: =IF(回答用シート_事業者!C69<>"",回答用シート_事業者!C69,"") | D69: 〇 | E69: -
A70: Q7 | B70: 対応チームのメンバーに、事案対応によるストレスから、不眠やイライラなどの身体の不調が生じる可能性があるが、事案対応を直接行うメンバー以外の従事者のメンタルヘルスを気にする必要はない。 | C70: =IF(回答用シート_事業者!C70<>"",回答用シート_事業者!C70,"") | D70: × | E70: 対応チームのメンバーに、事案対応によるストレスから、不眠やイライラなどの心身の不調が生じる可能性がある。事案対応を直接行うメンバーではなくとも、保護者からの批判や第三者からの心ない言葉による精神的苦痛を受ける可能性がある。性暴力を防げなかったという自責の念や無力感を感じて離職につながる事例もある。従事者の心身に問題がないかを確認し、セルフケアの重要性を伝えることや、専門職による心理ケアを受けてもらうことが有効である。
A71: Q8 | B71: また、事実があると判断されなかった行為を理由として、懲罰的な対応を行うことはできないが、一方で、行為が行われなかったとも判断できない以上、性暴力や不適切な行為の疑いが生じたことは重く受け止め、こどもの心身の安全や安心感に十分配慮し、教育・保育などの場がそのこどもにとって安全・安心な居場所となるように事業運営を行う必要がある。 | C71: =IF(回答用シート_事業者!C71<>"",回答用シート_事業者!C71,"") | D71: 〇 | E71: -
A72: Q9 | B72: 事業者が再発防止策を検討するに当たって、組織文化や体制の改善に関する検討は不要である。 | C72: =IF(回答用シート_事業者!C72<>"",回答用シート_事業者!C72,"") | D72: × | E72: 事業者が再発防止策を検討するに当たっては、個別の事案の原因を踏まえるだけでなく、こどもへの性暴力や不適切な行為の未然防止・早期発見に向けて、どのように組織文化や体制を改善できるか、という観点で検討する。再発防止策は、組織内のメンバーでの検討に加え、外部有識者の助言を受けることも有効である。
A73: 犯罪事実確認 | C73: あなたの回答 | D73: 正解 | E73: 解説
A74: Q1 | B74: 犯罪事実確認とは、事業者が対象となる従事者の性犯罪歴の有無について、こども家庭庁を通じて確認することをいう。こども家庭庁が交付する犯罪事実確認書の申請手続は、事業者において行うので、従事者がしなければならない手続は無い。 | C74: =IF(回答用シート_事業者!C74<>"",回答用シート_事業者!C74,"") | D74: × | E74: 犯罪事実確認とは、性暴力の防止のため、事業者が対象となる従事者の性犯罪歴について、こども家庭庁を通じて確認する取組を指し、こどもと接する業務に従事する全ての従事者が対象となる。申請に当たっては、事業者からこども家庭庁へ申請手続きを行うが、従事者もこれまでのすべての戸籍・除籍の提出が必要である。従事者が必要な書類を提出しないことによって犯罪事実確認ができない場合、その従事者を対象業務に就かせてしまうと、事業者は義務違反となり、義務対象事業者学校設置者等であれば公表、認定事業者等であれば認定取消しなどの対象となる。あらかじめ、従事者に対し、犯罪事実確認の対象であること、戸籍の提出などの手続に応じる必要があること、犯罪事実確認ができない場合は業務に就かせられないことなどを伝達する。従事者に拒否された場合には、業務命令として提出が必要な旨を明確に伝え、書面などで指導を行い記録に残すといった対応が必要である。
A75: Q2 | B75: 犯罪事実確認の手続は、原則として、新たにこども性暴力防止法の施行のために開発されるこまもろうシステム上で行う。また、犯罪事実確認書は、こまもろうシステムでの画面閲覧が原則とされている。 | C75: =IF(回答用シート_事業者!C75<>"",回答用シート_事業者!C75,"") | D75: 〇 | E75: -
A76: Q3 | B76: 新規採用・異動により新たに対象業務に従事させる場合、従事を開始するまでに犯罪事実確認書を受領し、犯罪事実確認を終えておく必要がある。 | C76: =IF(回答用シート_事業者!C76<>"",回答用シート_事業者!C76,"") | D76: 〇 | E76: -
A77: Q4 | B77: 義務対象事業者の場合は、こども性暴力防止法が施行された時点で、義務対象事業に従事・内定している従事者について、施行の日から5年以内に犯罪事実確認を終える必要がある。 認定事業者の場合は、認定を受けた時点で、認定対象事業に従事・内定している従事者について、認定の日から3年以内に犯罪事実確認を終える必要がある。 | C77: =IF(回答用シート_事業者!C77<>"",回答用シート_事業者!C77,"") | D77: × | E77: 義務対象事業者の場合、こども性暴力防止法が施行された時点で、義務対象事業に従事・内定している従事者は、施行の日から3年以内に犯罪事実確認を終える必要がある。認定事業者の場合は、認定を受けた時点で認定対象事業に従事・内定している従事者は、認定の日から1年以内に犯罪事実確認を終える必要がある。
A78: Q5 | B78: 従事者が対象業務に継続して従事している場合、一度犯罪事実確認を行っていれば、従事期間にかかわらず再度確認をする必要はない。 | C78: =IF(回答用シート_事業者!C78<>"",回答用シート_事業者!C78,"") | D78: × | E78: 犯罪事実確認を行った従事者が対象業務に継続して従事している場合、5年ごとに改めて犯罪事実確認を実施することが必要である。
A79: Q6 | B79: 犯罪事実確認書の交付申請を行ってから受領するまでに要する標準期間は、2週間から1か月（外国籍の対象従事者の場合は1か月から2か月）である。 | C79: =IF(回答用シート_事業者!C79<>"",回答用シート_事業者!C79,"") | D79: 〇 | E79: -
A80: Q7 | B80: 「いとま特例」が適用され、犯罪事実確認前に従事させる場合は、性暴力の防止に関する研修や、その従事者とこどもを一対一にさせないこと、管理職による定期的な巡回等をすることが求められる。職務の性質や緊急時であることを理由に、やむを得ずどうしても一対一になってしまう状況が生じる場合は、原則として、事前に管理職に対し、時間、場所、対象となるこども、一対一になる必要性などを説明し了解を得るとともに、終了後に完了報告を行うことや、極力外部から視認性の高い場所やリモートでの実施について検討することが必要である。 | C80: =IF(回答用シート_事業者!C80<>"",回答用シート_事業者!C80,"") | D80: 〇 | E80: -
A81: Q8 | B81: 事業者が自らの犯罪事実確認の実施状況を外部に情報開示する際には、性犯罪歴のある場合は、たとえ保護者からの問い合わせがあっても開示してはならないが、性犯罪歴がない場合は開示することができる。 | C81: =IF(回答用シート_事業者!C81<>"",回答用シート_事業者!C81,"") | D81: × | E81: 事業者が自らの犯罪事実確認の実施状況を外部に情報開示する際には、性犯罪歴がない場合も含め、性犯罪歴の有無について開示してはならない。たとえ保護者からの問合せがあっても性犯罪歴の有無を開示することはできない。違反した場合には罰則の対象となり得る。
A82: 防止措置 | C82: あなたの回答 | D82: 正解 | E82: 解説
A83: Q1 | B83: 防止措置とは、事業者が、従事者によって性暴力が行われるおそれがあると認めるときに、その従事者をこどもと接する業務に就かせないなど、性暴力を防止するために講じなければならない措置をいう。 | C83: =IF(回答用シート_事業者!C83<>"",回答用シート_事業者!C83,"") | D83: 〇 | E83: -
A84: Q2 | B84: 性暴力が行われるおそれがあると認めるケースは、「性犯罪歴があったとき」「性暴力の被害の申出があったとき」「調査などの結果、性暴力が行われたと合理的に判断できるとき」「調査などの結果、不適切な行為が行われたと合理的に判断できるとき」である。 | C84: =IF(回答用シート_事業者!C84<>"",回答用シート_事業者!C84,"") | D84: 〇 | E84: -
A85: Q3 | B85: 犯罪事実確認の結果、性犯罪歴があったとき、調査の結果、性暴力や重大な不適切な行為が行われたと合理的に判断されたときは、その従事者をこどもと接する業務に就かせてはならない。 | C85: =IF(回答用シート_事業者!C85<>"",回答用シート_事業者!C85,"") | D85: 〇 | E85: -
A86: Q4 | B86: こどもやその保護者から被害の申出があった場合も、まずは調査を行い、その後にこどもと加害が疑われる従事者の接触回避を行う。 | C86: =IF(回答用シート_事業者!C86<>"",回答用シート_事業者!C86,"") | D86: × | E86: 在籍するこどもまたはその保護者から性暴力の被害の申出があった場合は、被害拡大防止のため、調査を待たずに速やかに、被害が疑われるこどもと加害が疑われる従事者の接触の回避を行う。具体的には、一時的に対象業務から外し、自宅待機や別業務に就かせることが考えられる。
A87: Q5 | B87: 労働者とのトラブルを防止するため、採用選考に当たって事業者はあらかじめ、「採用募集要項の採用条件に性犯罪歴がないことを明示する」「就業規則の懲戒事由や、内定通知書に記載する内定取消しの事由として「重要な経歴の詐称」を定める」「内定前の誓約書などで性犯罪歴の有無を明示的に確認する」ことなどが重要である。 | C87: =IF(回答用シート_事業者!C87<>"",回答用シート_事業者!C87,"") | D87: 〇 | E87: -
A88: Q6 | B88: 従事者が派遣労働者や請負事業主のもとで働く労働者である場合は、派遣元や請負事業主が、犯罪事実確認や防止措置などの安全確保措置を行う義務を負う。 | C88: =IF(回答用シート_事業者!C88<>"",回答用シート_事業者!C88,"") | D88: × | E88: 従事者が派遣労働者や請負事業主のもとで働く労働者である場合は、派遣先や請負の発注者である事業者が、犯罪事実確認や防止措置などの安全確保措置を行う義務を負う。
A89: 情報管理措置 | C89: あなたの回答 | D89: 正解 | E89: 解説
A90: Q1 | B90: 従事者の性犯罪歴に関する情報が漏えいした場合、深刻な人権侵害につながる可能性があるため、情報管理は決して軽視してはならず、厳格に行うことが求められる。 | C90: =IF(回答用シート_事業者!C90<>"",回答用シート_事業者!C90,"") | D90: 〇 | E90: -
A91: Q2 | B91: こども性暴力防止法において情報管理の対象となる「性犯罪歴の記録」とは、こども家庭庁から交付される犯罪事実確認書や、犯罪事実確認書に記載された情報を転記したものを指す。 | C91: =IF(回答用シート_事業者!C91<>"",回答用シート_事業者!C91,"") | D91: 〇 | E91: -
A92: Q3 | B92: 性犯罪歴がない旨の情報は「性犯罪歴の記録」に該当せず、情報管理の対象とならない。 | C92: =IF(回答用シート_事業者!C92<>"",回答用シート_事業者!C92,"") | D92: × | E92: 性犯罪歴がない旨の情報も「性犯罪歴の記録」に該当するため、情報管理の対象となる。
A93: Q4 | B93: 性犯罪歴のある従事者から人事面談などを通じて聴き取った性犯罪歴に関するより詳しい情報についても、厳格な取扱いが求められる。 | C93: =IF(回答用シート_事業者!C93<>"",回答用シート_事業者!C93,"") | D93: 〇 | E93: -
A94: Q5 | B94: 情報管理規程には、基本方針に加えて、組織的情報管理措置・物理的情報管理措置・技術的情報管理措置、の3つの措置を定める必要がある。 | C94: =IF(回答用シート_事業者!C94<>"",回答用シート_事業者!C94,"") | D94: × | E94: 情報管理規程には、基本方針に加えて、組織的情報管理措置・人的情報管理措置・物理的情報管理措置・技術的情報管理措置、の4つの措置を定める必要がある。
A95: Q6 | B95: 組織内で性犯罪歴の記録を閲覧できる者は、各部署1人以上など、情報共有のため可能な限り多い方が望ましい。 | C95: =IF(回答用シート_事業者!C95<>"",回答用シート_事業者!C95,"") | D95: × | E95: 組織内で性犯罪歴の記録を閲覧できる者は、可能な限り責任者一人に限定するなど、必要最小限にとどめることが望ましい。
A96: Q7 | B96: 性犯罪歴の記録の漏えいや第三者提供などが発生した場合には、被害の拡大防止に努めるとともに、その旨をこまもろうシステム上でこども家庭庁に報告しなければならない。 | C96: =IF(回答用シート_事業者!C96<>"",回答用シート_事業者!C96,"") | D96: 〇 | E96: -
A97: Q8 | B97: 性犯罪歴の記録の漏えいやそのおそれを把握した際は、原則２週間以内にこども家庭庁に報告する。特に重大な事案では、原則１週間以内に対応する。 | C97: =IF(回答用シート_事業者!C97<>"",回答用シート_事業者!C97,"") | D97: × | E97: 性犯罪歴の記録の漏えいやそのおそれを把握した際は、原則3〜5日以内にこども家庭庁に報告する。特に重大な事案では、できる限り早い対応が望ましい。
A98: Q9 | B98: 情報管理措置に関する規定に故意に違反した場合は、その法人および違反行為を行った従事者個人の両方に、拘禁刑・罰金といった罰則が科される。 | C98: =IF(回答用シート_事業者!C98<>"",回答用シート_事業者!C98,"") | D98: 〇 | E98: -
A99: Q10 | B99: 従事者が離職した場合などに、その従事者の性犯罪歴の記録の廃棄・消去をしなかった場合には、50万円以下の罰金の対象となる。 | C99: =IF(回答用シート_事業者!C99<>"",回答用シート_事業者!C99,"") | D99: 〇 | E99: -
A100: 認定 | C100: あなたの回答 | D100: 正解 | E100: 解説
A101: Q1 | B101: 学校や認可保育所、認定こども園などは、全ての事業者が必ずこども性暴力防止法に基づく義務の対象となるのに対し、放課後児童クラブや学習塾、スポーツクラブといった「民間教育保育等事業」では、それぞれの事業者が申請し、こども家庭庁の認定を受けた場合に、それらの義務の対象となる。 | C101: =IF(回答用シート_事業者!C101<>"",回答用シート_事業者!C101,"") | D101: 〇 | E101: -
...
