Workbook

Sheet 回答用シート_事業者
A1: こども性暴力防止法の解説動画・資料 確認テスト
B2: ※本資料は、受講した研修について振り返り、知識が定着していることを確認するためのものです。
A3: こども性暴力防止法の概要 | C3: 回答欄 ※○×を選択
A4: Q1 | B4: こども性暴力防止法が対象とするこどもへの性暴力とは、不同意性交やわいせつな言動などであるが、盗撮は含まれない。
A5: Q2 | B5: 「不適切な行為」とは、行為そのものは性暴力には該当しなくとも、業務上必要な行為と言えず、その行為が継続・発展することにより性暴力につながる可能性のある行為をいい、すべての事業・業務において統一的な判断基準がある。
A6: Q3 | B6: 加害者側には、「少し触っただけで大したことではない」「こどもは嫌がっていなかった」という一方的な思い込みが見られることがある。これを「認知の偏り」と言う。
A7: Q4 | B7: 学校や認可保育所、認定こども園などを設置する事業者を「学校設置者等」といい、公立の事業者のみ法の対象となり、私立の事業者は対象外である。また、放課後児童クラブや学習塾など、義務対象以外でこどもに教育・保育などを提供する民間の事業者は、法の対象とはならない。
A8: Q5 | B8: 法の対象となった事業者には「安全確保措置」と「情報管理措置」に取り組むことが求められる。
A9: Q6 | B9: こどもの安全を守るために事業者が行う必要がある「安全確保措置」には、未然防止のためのルールの整備や従事者への研修の実施、早期発見のための相談窓口の設置や、性暴力が疑われる際の調査、被害にあったこどもの保護・支援などが含まれる。
A10: Q7 | B10: 不同意性交、不同意わいせつ、児童買春、児童ポルノ所持、盗撮といった特定性犯罪は、大人に対して行われた場合は、犯罪事実確認の対象にならない。
A11: 性暴力発生防止に関する基礎 | C11: 回答欄 ※○×を選択
A12: Q1 | B12: 被害者の側から見たこどもへの性暴力の特性として、「深刻さ」、「相談のしづらさ」、「発見のしづらさ」がある。
A13: Q2 | B13: こどもは、話しても大丈夫という安心感がないと、被害を打ち明けることができないことがある。そのため、被害を打ち明ける前に、保護者や友人、先生やコーチなどの身近な大人に対し、誰が批判をせずに受け止めてくれるかを、日常の会話の中で探ることがある。
A14: Q3 | B14: 性暴力の加害者には、「少し触っただけだ」、「実はこどもも喜んでいる」「これだけ頑張っているから見返りを求めてもよいはずだ」などのいわゆる「思考の誤り」「認知の偏り」と呼ばれる一方的な思い込みや、自己中心的な考えが見られる。
A15: Q4 | B15: 性暴力の加害者は、こどもを手なずけ、信頼関係を醸成し、こどもの心情や行動を操作して性暴力に及ぶことがある。これを「性的グルーミング」と呼ぶ。
A16: Q5 | B16: 環境面から見た性暴力の特性として、①指導などを通じて支配的・優越的立場に立つ「支配性」、②業務の中で繰り返しこどもと接する「継続性」、③保護者などの目が届かない「閉鎖性」がある。教育・保育などの場では、支配性、継続性、閉鎖性のある環境は成立しにくいが、「性暴力はどこでも起こり得るものだ」との意識を持って、未然防止や早期把握に努める必要がある。
A17: Q6 | B17: すべてのこどもは生まれながらに権利を持っている。こどもの権利条約では、①差別がないこと、②命を守られ成長できること、③こどもにとって最もよいこと、④意見を表明し参加できること、の４つを基本原則として定めている。
A18: Q7 | B18: こどもが望んだと主張して性暴力を正当化することは、こどもの意見を尊重することにも、こどもの権利を守ることにもならない。こどもには、性的行為に適切に同意する能力が十分に備わっているとは言えないことを理解する必要がある。
A19: Q8 | B19: こども性暴力防止法の対象となるこどもへの性暴力とは、不同意性交やわいせつな言動などを指すが、盗撮は含まれない。
A20: Q9 | B20: 「不適切な行為」とは、行為そのものは性暴力には該当しなくとも、業務上必要な行為と言えず、その行為が継続・発展することにより性暴力につながる可能性のある行為をいい、すべての事業・業務において統一的な判断基準がある。
A21: Q10 | B21: 不適切な行為は事業内容やこどもの特性などによって異なるため、どういった行為がそれぞれの事業に照らして不適切な行為に当たるのかについて、従事者とよくコミュニケーションをとりながら、過度な委縮につながらないようにルール設定をすることが重要である。また、事業者内で定めた不適切な行為について、従事者には周知する必要があるが、こどもや保護者に対しての周知は不要である。
A22: 安全確保措置 １．未然防止 | C22: 回答欄 ※○×を選択
A23: Q1 | B23: こども性暴力防止法における安全確保措置とは、性暴力を未然に防止し、性暴力が発生した場合は早期に発見するとともに、事実関係の調査を行い、被害にあったこどもの保護・支援や、更なる性暴力の防止につなげる取組を言う。
A24: Q2 | B24: 性暴力の未然防止の取り組みとして、「服務規律などの整備・周知」「施設・事業所環境の整備」「従事者に対する研修」「従事者やこども、保護者への教育・啓発」がある。
A25: Q3 | B25: 従事者によるこどもへの性暴力を、未然に防止するためには、事業者が、こどもへの性暴力の範囲や発生時の人事措置などを服務規律などに定め、内外に示すことが有効である。
A26: Q4 | B26: 性暴力の未然防止のための環境整備のうち、ハード面の取組としては、死角を把握した上で、密室状態を回避する設備（防犯カメラなど）の導入、性暴力抑止のための掲示をすることなどが考えられる。
A27: Q5 | B27: こども性暴力防止法では、対象となる従事者に、性暴力防止への関心を高めるとともに、そのために取り組むべきことに関する理解を深めるための研修を受講させることを、事業者に推奨しているが、事業者の義務とはされていない。
A28: Q6 | B28: こども家庭庁では、研修に活用できる「標準動画」や「要点動画」を提供している。このうち「要点動画」は、理解しておくことが最低限必要な内容を解説したもので、業務で多忙な従事者は誰でも「要点動画」を視聴すれば十分である。
A29: Q7 | B29: 研修は、1回限りとするのではなく、定期的な受講を促したり、日常的な取組の中に組み込んだりすることや、演習を通じて全ての従事者が研修内容を「自分ごと」として捉え、適切な行動を行うことができるようにすることが重要である。
A30: Q8 | B30: 「こどもの権利」は重要だが、性暴力の防止につながることは期待できない。
A31: Q9 | B31: 保護者に対して、こども性暴力防止法の仕組みや、法に基づく事業者の取組について周知するとともに、性暴力に関する正しい知識やこどもの権利、こどもから被害を打ち明けられた場合の適切な対応などについて、ともに学ぶ機会を持つことも有効である。
A32: Q10 | B32: 保護者に対し、従事者の性犯罪歴に関する情報や、性被害を受けたこどもの情報などについて、うわさを立てたり広めたりしないよう、丁寧に周知し、協力を呼び掛けることが重要である。
A33: 安全確保措置 ２．早期発見 | C33: 回答欄 ※○×を選択
A34: Q1 | B34: こども性暴力防止法では、早期発見のための取組として、「こどもに対する日常的な観察」、「面談又はアンケート」「報告・対応ルールの策定」「相談窓口の設置・周知」が事業者に義務付けられている。
A35: Q2 | B35: こどもに対する日常観察を行う際には、できるだけそのこどもをよく知る担当者1名で行うことが望ましい。
A36: Q3 | B36: こども性暴力防止法では、事業者に対して、性暴力の疑いなどが生じた場合の報告方法・報告先・報告内容といった「報告ルール」や、報告を受けた後の対応者、対応事項・対応手順などの「対応ルール」を定めること、それらを従事者に周知することが義務づけられているが、こども、保護者に周知することまでは必要ない。
A37: Q4 | B37: チームを編成する際には、重大事案にも対応できる一定の権限を有した役職者を「こどもの安全・保護に関する責任者」として定め、その下にメンバーを集めて、複数の者によるチームを編成する。組織内での報告ルートが設定されていれば、匿名通報窓口や外部通報窓口は必要ない。
A38: Q5 | B38: 被害を受けたこどもについて、うわさや誹謗中傷などが発生し、二次被害につながることは、絶対にあってはならず、情報の共有範囲は必要最低限とし、厳格に管理する。
A39: Q6 | B39: こども性暴力防止法では、事業者に対して、相談員の選任や相談窓口の設置を行い、それを周知することや、事業者外の相談窓口を周知することが義務付けられている。
A40: 安全確保措置 ３．疑いを把握した事業者の初期対応 | C40: 回答欄 ※○×を選択
...

Sheet 解説シート_事業者
A1: こども性暴力防止法の解説動画・資料 確認テスト 解説
A3: こども性暴力防止法の概要 | C3: あなたの回答 | D3: 正解 | E3: 解説
A4: Q1 | B4: こども性暴力防止法が対象とするこどもへの性暴力とは、不同意性交やわいせつな言動などであるが、盗撮は含まれない。 | C4: =IF(回答用シート_事業者!C4<>"",回答用シート_事業者!C4,"") | D4: × | E4: こども性暴力防止法が対象とするこどもへの性暴力とは、不同意性交に加え、わいせつな言動、盗撮などを指す。
A5: Q2 | B5: 「不適切な行為」とは、行為そのものは性暴力には該当しなくとも、業務上必要な行為と言えず、その行為が継続・発展することにより性暴力につながる可能性のある行為をいい、すべての事業・業務において統一的な判断基準がある。 | C5: =IF(回答用シート_事業者!C5<>"",回答用シート_事業者!C5,"") | D5: × | E5: 「不適切な行為」とは、行為そのものは性暴力には該当しなくとも、業務上必要な行為と言えず、その行為が継続・発展することにより性暴力につながる可能性のある行為を言う。どのような行為が「不適切な行為」に該当するかは、事業内容やこどもの特性などによって異なる。
A6: Q3 | B6: 加害者側には、「少し触っただけで大したことではない」「こどもは嫌がっていなかった」という一方的な思い込みが見られることがある。これを「認知の偏り」と言う。 | C6: =IF(回答用シート_事業者!C6<>"",回答用シート_事業者!C6,"") | D6: 〇 | E6: -
A7: Q4 | B7: 学校や認可保育所、認定こども園などを設置する事業者を「学校設置者等」といい、公立の事業者のみ法の対象となり、私立の事業者は対象外である。また、放課後児童クラブや学習塾など、義務対象以外でこどもに教育・保育などを提供する民間の事業者は、法の対象とはならない。 | C7: =IF(回答用シート_事業者!C7<>"",回答用シート_事業者!C7,"") | D7: × | E7: 学校や認可保育所、認定こども園などを設置する事業者を「学校設置者等」といい、公立、私立を問わず全ての事業者が法の対象となる。また、放課後児童クラブや学習塾など、義務対象以外でこどもに教育・保育などを提供する事業者を「民間教育保育等事業者」といい、こども家庭庁に申請し認められた場合に法の対象となる。
A8: Q5 | B8: 法の対象となった事業者には「安全確保措置」と「情報管理措置」に取り組むことが求められる。 | C8: =IF(回答用シート_事業者!C8<>"",回答用シート_事業者!C8,"") | D8: 〇 | E8: -
A9: Q6 | B9: こどもの安全を守るために事業者が行う必要がある「安全確保措置」には、未然防止のためのルールの整備や従事者への研修の実施、早期発見のための相談窓口の設置や、性暴力が疑われる際の調査、被害にあったこどもの保護・支援などが含まれる。 | C9: =IF(回答用シート_事業者!C9<>"",回答用シート_事業者!C9,"") | D9: 〇 | E9: -
A10: Q7 | B10: 不同意性交、不同意わいせつ、児童買春、児童ポルノ所持、盗撮といった特定性犯罪は、大人に対して行われた場合は、犯罪事実確認の対象にならない。 | C10: =IF(回答用シート_事業者!C10<>"",回答用シート_事業者!C10,"") | D10: × | E10: 犯罪事実確認の対象となる「特定性犯罪」とは、不同意性交、不同意わいせつ、児童買春、児童ポルノ所持、盗撮などのこども性暴力防止法で定める一般的な性犯罪を指し、これらの犯罪が大人に対して行われた場合も、犯罪事実確認の対象になる。
A11: 性暴力発生防止に関する基礎 | C11: あなたの回答 | D11: 正解 | E11: 解説
A12: Q1 | B12: 被害者の側から見たこどもへの性暴力の特性として、「深刻さ」、「相談のしづらさ」、「発見のしづらさ」がある。 | C12: =IF(回答用シート_事業者!C12<>"",回答用シート_事業者!C12,"") | D12: 〇 | E12: -
A13: Q2 | B13: こどもは、話しても大丈夫という安心感がないと、被害を打ち明けることができないことがある。そのため、被害を打ち明ける前に、保護者や友人、先生やコーチなどの身近な大人に対し、誰が批判をせずに受け止めてくれるかを、日常の会話の中で探ることがある。 | C13: =IF(回答用シート_事業者!C13<>"",回答用シート_事業者!C13,"") | D13: 〇 | E13: -
A14: Q3 | B14: 性暴力の加害者には、「少し触っただけだ」、「実はこどもも喜んでいる」「これだけ頑張っているから見返りを求めてもよいはずだ」などのいわゆる「思考の誤り」「認知の偏り」と呼ばれる一方的な思い込みや、自己中心的な考えが見られる。 | C14: =IF(回答用シート_事業者!C14<>"",回答用シート_事業者!C14,"") | D14: 〇 | E14: -
A15: Q4 | B15: 性暴力の加害者は、こどもを手なずけ、信頼関係を醸成し、こどもの心情や行動を操作して性暴力に及ぶことがある。これを「性的グルーミング」と呼ぶ。 | C15: =IF(回答用シート_事業者!C15<>"",回答用シート_事業者!C15,"") | D15: 〇 | E15: -
A16: Q5 | B16: 環境面から見た性暴力の特性として、①指導などを通じて支配的・優越的立場に立つ「支配性」、②業務の中で繰り返しこどもと接する「継続性」、③保護者などの目が届かない「閉鎖性」がある。教育・保育などの場では、支配性、継続性、閉鎖性のある環境は成立しにくいが、「性暴力はどこでも起こり得るものだ」との意識を持って、未然防止や早期把握に努める必要がある。 | C16: =IF(回答用シート_事業者!C16<>"",回答用シート_事業者!C16,"") | D16: × | E16: 環境面から見た性暴力の特性として、①指導などを通じて強い立場に立つ「支配性」、②業務の中で繰り返しこどもと接する「継続性」、③保護者などの目が届かない「閉鎖性」がある。教育・保育などの場では、支配性、継続性、閉鎖性のある環境が成立しやすいため、「性暴力はどこでも起こり得るものだ」との意識を持って、未然防止や早期把握に努める必要がある。
A17: Q6 | B17: すべてのこどもは生まれながらに権利を持っている。こどもの権利条約では、①差別がないこと、②命を守られ成長できること、③こどもにとって最もよいこと、④意見を表明し参加できること、の４つを基本原則として定めている。 | C17: =IF(回答用シート_事業者!C17<>"",回答用シート_事業者!C17,"") | D17: 〇 | E17: -
A18: Q7 | B18: こどもが望んだと主張して性暴力を正当化することは、こどもの意見を尊重することにも、こどもの権利を守ることにもならない。こどもには、性的行為に適切に同意する能力が十分に備わっているとは言えないことを理解する必要がある。 | C18: =IF(回答用シート_事業者!C18<>"",回答用シート_事業者!C18,"") | D18: 〇 | E18: -
A19: Q8 | B19: こども性暴力防止法の対象となるこどもへの性暴力とは、不同意性交やわいせつな言動などを指すが、盗撮は含まれない。 | C19: =IF(回答用シート_事業者!C19<>"",回答用シート_事業者!C19,"") | D19: × | E19: こども性暴力防止法の対象となるこどもへの性暴力とは、不同意性交に加え、わいせつな言動、盗撮などを指す。
A20: Q9 | B20: 「不適切な行為」とは、行為そのものは性暴力には該当しなくとも、業務上必要な行為と言えず、その行為が継続・発展することにより性暴力につながる可能性のある行為をいい、すべての事業・業務において統一的な判断基準がある。 | C20: =IF(回答用シート_事業者!C20<>"",回答用シート_事業者!C20,"") | D20: × | E20: 「不適切な行為」とは、行為そのものは性暴力には該当しなくとも、業務上必要な行為と言えず、その行為が継続・発展することにより性暴力につながる可能性のある行為を言う。どのような行為が「不適切な行為」に該当するかは、事業内容やこどもの特性などによって異なる。
A21: Q10 | B21: 不適切な行為は事業内容やこどもの特性などによって異なるため、どういった行為がそれぞれの事業に照らして不適切な行為に当たるのかについて、従事者とよくコミュニケーションをとりながら、過度な委縮につながらないようにルール設定をすることが重要である。また、事業者内で定めた不適切な行為について、従事者には周知する必要があるが、こどもや保護者に対しての周知は不要である。 | C21: =IF(回答用シート_事業者!C21<>"",回答用シート_事業者!C21,"") | D21: × | E21: 不適切な行為は事業内容やこどもの特性などによって異なるため、どういった行為がそれぞれの事業に照らして不適切な行為に当たるのかについて、従事者とよくコミュニケーションをとりながら、過度な委縮につながらないようにルール設定をすることが重要である。また、事業者内で定めた不適切な行為について、従事者だけでなく、こどもや保護者に対しても周知を行う必要がある。
A22: 安全確保措置 １．未然防止 | C22: あなたの回答 | D22: 正解 | E22: 解説
A23: Q1 | B23: こども性暴力防止法における安全確保措置とは、性暴力を未然に防止し、性暴力が発生した場合は早期に発見するとともに、事実関係の調査を行い、被害にあったこどもの保護・支援や、更なる性暴力の防止につなげる取組を言う。 | C23: =IF(回答用シート_事業者!C23<>"",回答用シート_事業者!C23,"") | D23: 〇 | E23: -
A24: Q2 | B24: 性暴力の未然防止の取り組みとして、「服務規律などの整備・周知」「施設・事業所環境の整備」「従事者に対する研修」「従事者やこども、保護者への教育・啓発」がある。 | C24: =IF(回答用シート_事業者!C24<>"",回答用シート_事業者!C24,"") | D24: 〇 | E24: -
A25: Q3 | B25: 従事者によるこどもへの性暴力を、未然に防止するためには、事業者が、こどもへの性暴力の範囲や発生時の人事措置などを服務規律などに定め、内外に示すことが有効である。 | C25: =IF(回答用シート_事業者!C25<>"",回答用シート_事業者!C25,"") | D25: 〇 | E25: -
A26: Q4 | B26: 性暴力の未然防止のための環境整備のうち、ハード面の取組としては、死角を把握した上で、密室状態を回避する設備（防犯カメラなど）の導入、性暴力抑止のための掲示をすることなどが考えられる。 | C26: =IF(回答用シート_事業者!C26<>"",回答用シート_事業者!C26,"") | D26: 〇 | E26: -
A27: Q5 | B27: こども性暴力防止法では、対象となる従事者に、性暴力防止への関心を高めるとともに、そのために取り組むべきことに関する理解を深めるための研修を受講させることを、事業者に推奨しているが、事業者の義務とはされていない。 | C27: =IF(回答用シート_事業者!C27<>"",回答用シート_事業者!C27,"") | D27: × | E27: こども性暴力防止法では、対象となる全ての従事者に、性暴力防止への関心を高めるとともに、そのために取り組むべきことに関する理解を深めるための研修を受講させることを、事業者に対して義務付けている。
A28: Q6 | B28: こども家庭庁では、研修に活用できる「標準動画」や「要点動画」を提供している。このうち「要点動画」は、理解しておくことが最低限必要な内容を解説したもので、業務で多忙な従事者は誰でも「要点動画」を視聴すれば十分である。 | C28: =IF(回答用シート_事業者!C28<>"",回答用シート_事業者!C28,"") | D28: × | E28: こども家庭庁では、研修に活用できる「標準動画」や「要点動画」を提供している。従事者は、原則として、標準動画を活用した標準研修を受講する必要があるが、不定期・短期間の従事者など、標準研修の受講がすぐには難しい従事者については、理解しておくことが最低限必要な内容を解説した「要点動画」を使った研修を受講することも可能である。
A29: Q7 | B29: 研修は、1回限りとするのではなく、定期的な受講を促したり、日常的な取組の中に組み込んだりすることや、演習を通じて全ての従事者が研修内容を「自分ごと」として捉え、適切な行動を行うことができるようにすることが重要である。 | C29: =IF(回答用シート_事業者!C29<>"",回答用シート_事業者!C29,"") | D29: 〇 | E29: -
A30: Q8 | B30: 「こどもの権利」は重要だが、性暴力の防止につながることは期待できない。 | C30: =IF(回答用シート_事業者!C30<>"",回答用シート_事業者!C30,"") | D30: × | E30: こどもへの性暴力を防止するためには、加害を防止することが何よりも重要だが、こども自身が「こどもの権利」を知ることも重要である。自分のことは自分で決めていいこと、自分の意見を言っていいこと、自分が嫌な時は嫌だと言っていいことを伝えることで、危険な状況になったときに「嫌」という感覚を持つことや、それを表明することができるようになる。
A31: Q9 | B31: 保護者に対して、こども性暴力防止法の仕組みや、法に基づく事業者の取組について周知するとともに、性暴力に関する正しい知識やこどもの権利、こどもから被害を打ち明けられた場合の適切な対応などについて、ともに学ぶ機会を持つことも有効である。 | C31: =IF(回答用シート_事業者!C31<>"",回答用シート_事業者!C31,"") | D31: 〇 | E31: -
A32: Q10 | B32: 保護者に対し、従事者の性犯罪歴に関する情報や、性被害を受けたこどもの情報などについて、うわさを立てたり広めたりしないよう、丁寧に周知し、協力を呼び掛けることが重要である。 | C32: =IF(回答用シート_事業者!C32<>"",回答用シート_事業者!C32,"") | D32: 〇 | E32: -
A33: 安全確保措置 ２．早期発見 | C33: あなたの回答 | D33: 正解 | E33: 解説
A34: Q1 | B34: こども性暴力防止法では、早期発見のための取組として、「こどもに対する日常的な観察」、「面談又はアンケート」「報告・対応ルールの策定」「相談窓口の設置・周知」が事業者に義務付けられている。 | C34: =IF(回答用シート_事業者!C34<>"",回答用シート_事業者!C34,"") | D34: 〇 | E34: -
A35: Q2 | B35: こどもに対する日常観察を行う際には、できるだけそのこどもをよく知る担当者1名で行うことが望ましい。 | C35: =IF(回答用シート_事業者!C35<>"",回答用シート_事業者!C35,"") | D35: × | E35: こどもに対する日常観察を行う際には、可能な限り複数名で観察することや、情報共有や改善につなげやすい環境・雰囲気づくりが重要である。
A36: Q3 | B36: こども性暴力防止法では、事業者に対して、性暴力の疑いなどが生じた場合の報告方法・報告先・報告内容といった「報告ルール」や、報告を受けた後の対応者、対応事項・対応手順などの「対応ルール」を定めること、それらを従事者に周知することが義務づけられているが、こども、保護者に周知することまでは必要ない。 | C36: =IF(回答用シート_事業者!C36<>"",回答用シート_事業者!C36,"") | D36: × | E36: こども性暴力防止法では、事業者に対して、性暴力の疑いなどが生じた場合の報告方法・報告先・報告内容といった「報告ルール」や、報告を受けた後の対応者、対応事項・対応手順などの「対応ルール」を定めること、それらを従事者やこども、保護者に周知することが義務付けられている。
A37: Q4 | B37: チームを編成する際には、重大事案にも対応できる一定の権限を有した役職者を「こどもの安全・保護に関する責任者」として定め、その下にメンバーを集めて、複数の者によるチームを編成する。組織内での報告ルートが設定されていれば、匿名通報窓口や外部通報窓口は必要ない。 | C37: =IF(回答用シート_事業者!C37<>"",回答用シート_事業者!C37,"") | D37: × | E37: 事案に対応するためのチームを編成する際には、重大事案にも対応できる一定の権限を有した役職者を「こどもの安全・保護に関する責任者」として定め、その下にメンバーを集めて、複数の者によるチームを編成する。また、責任者やメンバーが加害者であることが疑われる場合も想定し、組織内での報告ルートに加えて、匿名通報窓口や外部通報窓口がある場合には、これらも周知する。
A38: Q5 | B38: 被害を受けたこどもについて、うわさや誹謗中傷などが発生し、二次被害につながることは、絶対にあってはならず、情報の共有範囲は必要最低限とし、厳格に管理する。 | C38: =IF(回答用シート_事業者!C38<>"",回答用シート_事業者!C38,"") | D38: 〇 | E38: -
A39: Q6 | B39: こども性暴力防止法では、事業者に対して、相談員の選任や相談窓口の設置を行い、それを周知することや、事業者外の相談窓口を周知することが義務付けられている。 | C39: =IF(回答用シート_事業者!C39<>"",回答用シート_事業者!C39,"") | D39: 〇 | E39: -
A40: 安全確保措置 ３．疑いを把握した事業者の初期対応 | C40: あなたの回答 | D40: 正解 | E40: 解説
A41: Q1 | B41: こどもから被害について打ち明けられたら、まずは安心できる場所を確保し、可能であれば録音の用意や筆記役の同席など記録を取る準備を行う。 | C41: =IF(回答用シート_事業者!C41<>"",回答用シート_事業者!C41,"") | D41: 〇 | E41: -
...
